BEGIN:VCALENDAR
VERSION:2.0
PRODID:-//Ashby Canal Association - ECPv6.15.20//NONSGML v1.0//EN
CALSCALE:GREGORIAN
METHOD:PUBLISH
X-WR-CALNAME:Ashby Canal Association
X-ORIGINAL-URL:https://ashbycanal.co.uk
X-WR-CALDESC:Events for Ashby Canal Association
REFRESH-INTERVAL;VALUE=DURATION:PT1H
X-Robots-Tag:noindex
X-PUBLISHED-TTL:PT1H
BEGIN:VTIMEZONE
TZID:Europe/London
BEGIN:DAYLIGHT
TZOFFSETFROM:+0000
TZOFFSETTO:+0100
TZNAME:BST
DTSTART:20230326T010000
END:DAYLIGHT
BEGIN:STANDARD
TZOFFSETFROM:+0100
TZOFFSETTO:+0000
TZNAME:GMT
DTSTART:20231029T010000
END:STANDARD
BEGIN:DAYLIGHT
TZOFFSETFROM:+0000
TZOFFSETTO:+0100
TZNAME:BST
DTSTART:20240331T010000
END:DAYLIGHT
BEGIN:STANDARD
TZOFFSETFROM:+0100
TZOFFSETTO:+0000
TZNAME:GMT
DTSTART:20241027T010000
END:STANDARD
BEGIN:DAYLIGHT
TZOFFSETFROM:+0000
TZOFFSETTO:+0100
TZNAME:BST
DTSTART:20250330T010000
END:DAYLIGHT
BEGIN:STANDARD
TZOFFSETFROM:+0100
TZOFFSETTO:+0000
TZNAME:GMT
DTSTART:20251026T010000
END:STANDARD
END:VTIMEZONE
BEGIN:VEVENT
DTSTART;TZID=Europe/London:20240518T220000
DTEND;TZID=Europe/London:20240519T160000
DTSTAMP:20260425T005205
CREATED:20240513T195425Z
LAST-MODIFIED:20240517T152804Z
UID:2897-1716069600-1716134400@ashbycanal.co.uk
SUMMARY:Moira Canal Festival
DESCRIPTION:The Canal Festival is a family event to be held on the banks of the restored Ashby Canal at the historic Moira Furnace Museum\, on the North West Leicestershire and South Derbyshire border. It aims to raise awareness of\, and money for\, the restoration\, extension and maintenance of the Ashby Canal. \n\n\n\n\n\n\n\nThere will be a planned Battle of Britain Memorial Flight flypast\, music with an assortment of bands and singers over the weekend. Morris dancing will liven things up\, there will be crafty fun and entertainment for the children\, live steam train rides\, a variety of stalls and demonstrations\, boats\, bar and refreshments\, also meet Mother Duck and her ducklings and enter a duck in the annual Duck Race along the Ashby Canal! This will all revolve around the banks of the restored section of the Ashby Canal at Moira Furnace\, in the Heart of the National Forest. \n\n\n\n\n\n\n\nThis year the event will also be host to the largest annual gathering of trailable boats in the UK and has been held annually since the first gathering in 1989 on the Lancaster Canal\, although\, owing to the pandemic\, there has been a gap of five years since the previous event\, held in 2019\, also on the Lancaster Canal. The event has previously been held on the Ashby Canal in 2000\, 2009 and 2017. \n\n\n\n\n\n\n\n£3 – Children (5yrs-15yrs) \n\n\n\n£6 – Adults \n\n\n\nFREE – Car Parking & Programme
URL:https://ashbycanal.co.uk/event/moira-canal-festival/
LOCATION:Moira Furnace Museum and Country Park\, Moira Furness\, Furness Lane\, Moira\, Swadlincote\, DE12 6AT\, United Kingdom
END:VEVENT
END:VCALENDAR